BEGIN:VCALENDAR
VERSION:2.0
PRODID:-//104.152.168.27//NONSGML kigkonsult.se iCalcreator 2.20//
CALSCALE:GREGORIAN
METHOD:PUBLISH
X-WR-TIMEZONE:Asia/Tokyo
BEGIN:VEVENT
UID:event39215@Tokyo Gig Guide
DTSTAMP:20260426T035805Z
CATEGORIES:Avant garde\, Experimental\, Improvised
DESCRIPTION:Dowser: H. Nagashima\, M. Terai\, R. Fukuoka\nCategory: Avant g
 arde\, Experimental\, Improvised\nLink: https://www.tokyogigguide.com/inde
 x.php?option=com_jem&view=event&id=39215:dowser-h-nagashima-m-terai-r-fuku
 oka-6-bodies-60-minutes-6-months-vol-15-special-version-3days-of-contre-at
 taque&Itemid=1094\n
DTSTART:20260222T190000
DTEND:20260222T190000
LOCATION:Club Doctor\,Kamiogi 1-16-10 B1\, Suginami-ku\,Ogikubo
SUMMARY:Dowser: H. Nagashima\, M. Terai\, R. Fukuoka
URL:https://www.tokyogigguide.com/index.php?option=com_jem&view=event&id=39
 215:dowser-h-nagashima-m-terai-r-fukuoka-6-bodies-60-minutes-6-months-vol-
 15-special-version-3days-of-contre-attaque&Itemid=1094
END:VEVENT
END:VCALENDAR
