BEGIN:VCALENDAR
VERSION:2.0
PRODID:-//104.152.168.27//NONSGML kigkonsult.se iCalcreator 2.20//
CALSCALE:GREGORIAN
METHOD:PUBLISH
X-WR-TIMEZONE:Asia/Tokyo
BEGIN:VEVENT
UID:event39213@Tokyo Gig Guide
DTSTAMP:20260420T233317Z
CATEGORIES:Avant garde\, Experimental\, Improvised\, Instrumental
DESCRIPTION:Kazuo Imai\, Tatsuya Yoshida\nCategory: Avant garde\, Experimen
 tal\, Improvised\, Instrumental\nLink: https://www.tokyogigguide.com/index
 .php?option=com_jem&view=event&id=39213:kazuo-imai-tatsuya-yoshida&Itemid=
 1094\n
DTSTART:20260320T163000
DTEND:20260320T163000
LOCATION:Aja\,Kaneko Building B1\, 2-21-5 Chuo\, Nakano-ku\, Tokyo\,Nakano-
 sakaue
SUMMARY:Kazuo Imai\, Tatsuya Yoshida
URL:https://www.tokyogigguide.com/index.php?option=com_jem&view=event&id=39
 213:kazuo-imai-tatsuya-yoshida&Itemid=1094
END:VEVENT
END:VCALENDAR
