BEGIN:VCALENDAR
VERSION:2.0
PRODID:-//104.152.168.27//NONSGML kigkonsult.se iCalcreator 2.20//
CALSCALE:GREGORIAN
METHOD:PUBLISH
X-WR-TIMEZONE:Asia/Tokyo
BEGIN:VEVENT
UID:event39197@Tokyo Gig Guide
DTSTAMP:20260419T215531Z
CATEGORIES:Metal\, Rock
DESCRIPTION:Paradise Lost\nCategory: Metal\, Rock\nLink: https://www.tokyog
 igguide.com/index.php?option=com_jem&view=event&id=39197:paradise-lost&Ite
 mid=1094\n
DTSTART:20261012T170000
DTEND:20261012T170000
LOCATION:Stream Hall\,3-21-3 Shibuya\, Shibuyaku\, Tokyo\,Shibuya
SUMMARY:Paradise Lost
URL:https://www.tokyogigguide.com/index.php?option=com_jem&view=event&id=39
 197:paradise-lost&Itemid=1094
END:VEVENT
END:VCALENDAR
