BEGIN:VCALENDAR
VERSION:2.0
PRODID:-//104.152.168.27//NONSGML kigkonsult.se iCalcreator 2.20//
CALSCALE:GREGORIAN
METHOD:PUBLISH
X-WR-TIMEZONE:Asia/Tokyo
BEGIN:VEVENT
UID:event39170@Tokyo Gig Guide
DTSTAMP:20260422T184106Z
CATEGORIES:Punk
DESCRIPTION:Mikabomb（from U.K.）/ つしまみれ／BO-PEEP /Akabane Vulgars on Strong B
 ypass / 寝たふりナッパーズ\nCategory: Punk\nLink: https://www.tokyogigguide.com/ind
 ex.php?option=com_jem&view=event&id=39170:mikabomb-from-u-k-bo-peep-akaban
 e-vulgars-on-strong-bypass&Itemid=1094\n
DTSTART:20260112T163000
DTEND:20260112T163000
LOCATION:TOP BEAT CLUB\,1-15-1\, Shimizu\, Suginami-ku\, Tokyo\,Ogikubo
SUMMARY:Mikabomb（from U.K.）/ つしまみれ／BO-PEEP /Akabane Vulgars on Strong Bypas
 s / 寝たふりナッパーズ
URL:https://www.tokyogigguide.com/index.php?option=com_jem&view=event&id=39
 170:mikabomb-from-u-k-bo-peep-akabane-vulgars-on-strong-bypass&Itemid=1094
END:VEVENT
END:VCALENDAR
