BEGIN:VCALENDAR
VERSION:2.0
PRODID:-//104.152.168.27//NONSGML kigkonsult.se iCalcreator 2.20//
CALSCALE:GREGORIAN
METHOD:PUBLISH
X-WR-TIMEZONE:Asia/Tokyo
BEGIN:VEVENT
UID:event39104@Tokyo Gig Guide
DTSTAMP:20260421T051252Z
CATEGORIES:Rock\, Rock n Roll
DESCRIPTION:Play Rock!! (Natsuki Kido\, Kenji Sato\, Yoshihito Eto)\nCatego
 ry: Rock\, Rock n Roll\nLink: https://www.tokyogigguide.com/index.php?opti
 on=com_jem&view=event&id=39104:play-rock-natsuki-kido-kenji-sato-yoshihito
 -eto&Itemid=1094\n
DTSTART:20260117T170000
DTEND:20260117T170000
LOCATION:Echigoya QP\,305\, 3-1-14 Nishi-Tsuruma\, Yamato-city\, Kanagawa\,
 Yamato
SUMMARY:Play Rock!! (Natsuki Kido\, Kenji Sato\, Yoshihito Eto)
URL:https://www.tokyogigguide.com/index.php?option=com_jem&view=event&id=39
 104:play-rock-natsuki-kido-kenji-sato-yoshihito-eto&Itemid=1094
END:VEVENT
END:VCALENDAR
