BEGIN:VCALENDAR
VERSION:2.0
PRODID:-//104.152.168.27//NONSGML kigkonsult.se iCalcreator 2.20//
CALSCALE:GREGORIAN
METHOD:PUBLISH
X-WR-TIMEZONE:Asia/Tokyo
BEGIN:VEVENT
UID:event39100@Tokyo Gig Guide
DTSTAMP:20260424T231436Z
CATEGORIES:Acoustic\, Jazz\, Latin
DESCRIPTION:Natsuki Kido\, Yuhei Matsunaga\nCategory: Acoustic\, Jazz\, Lat
 in\nLink: https://www.tokyogigguide.com/index.php?option=com_jem&view=even
 t&id=39100:natsuki-kido-yuhei-matsuoka&Itemid=1094\n
DTSTART:20260112T180000
DTEND:20260112T180000
LOCATION:Dolphy\,2-17-4-2F Miyagawa-cho\, Naka-ku\, Yokohama\,Yokohama
SUMMARY:Natsuki Kido\, Yuhei Matsunaga
URL:https://www.tokyogigguide.com/index.php?option=com_jem&view=event&id=39
 100:natsuki-kido-yuhei-matsuoka&Itemid=1094
END:VEVENT
END:VCALENDAR
