BEGIN:VCALENDAR
VERSION:2.0
PRODID:-//104.152.168.27//NONSGML kigkonsult.se iCalcreator 2.20//
CALSCALE:GREGORIAN
METHOD:PUBLISH
X-WR-TIMEZONE:Asia/Tokyo
BEGIN:VEVENT
UID:event39083@Tokyo Gig Guide
DTSTAMP:20260423T192359Z
CATEGORIES:Rock\, Rock n Roll
DESCRIPTION:DOG PARTY (US)\, Teens in Trouble (US)\, QUINCAMPOIX\, DJ Toyoz
 o (The Fadeaways)\, Ayumi (VAMP!)\nCategory: Rock\, Rock n Roll\nLink: htt
 ps://www.tokyogigguide.com/index.php?option=com_jem&view=event&id=39083:do
 g-party-us-teens-in-trouble-us-quincampoix-dj-toyozo-the-fadeaways-ayumi-v
 amp&Itemid=1094\n
DTSTART:20260201T183000
DTEND:20260201T183000
LOCATION:Green Apple\,Koenji-Minami 4-9-6 2F\, Suginami-ku\, Tokyo\,Koenji
SUMMARY:DOG PARTY (US)\, Teens in Trouble (US)\, QUINCAMPOIX\, DJ Toyozo (T
 he Fadeaways)\, Ayumi (VAMP!)
URL:https://www.tokyogigguide.com/index.php?option=com_jem&view=event&id=39
 083:dog-party-us-teens-in-trouble-us-quincampoix-dj-toyozo-the-fadeaways-a
 yumi-vamp&Itemid=1094
END:VEVENT
END:VCALENDAR
