BEGIN:VCALENDAR
VERSION:2.0
PRODID:-//104.152.168.27//NONSGML kigkonsult.se iCalcreator 2.20//
CALSCALE:GREGORIAN
METHOD:PUBLISH
X-WR-TIMEZONE:Asia/Tokyo
BEGIN:VEVENT
UID:event39026@Tokyo Gig Guide
DTSTAMP:20260420T201333Z
CATEGORIES:Alternative\, Electronic\, Experimental\, Improvised\, Jazz
DESCRIPTION:夜はいつでも回転している (Nocturnal Fish)\nCategory: Alternative\, Electron
 ic\, Experimental\, Improvised\, Jazz\nLink: https://www.tokyogigguide.com
 /index.php?option=com_jem&view=event&id=39026:nocturnal-fish&Itemid=1094\n
DTSTART:20260219T190000
DTEND:20260219T190000
LOCATION:Home\,Gloria Miyamasuzaka III B1F\, 1-10-7 Shibuya\,Shibuya
SUMMARY:夜はいつでも回転している (Nocturnal Fish)
URL:https://www.tokyogigguide.com/index.php?option=com_jem&view=event&id=39
 026:nocturnal-fish&Itemid=1094
END:VEVENT
END:VCALENDAR
