BEGIN:VCALENDAR
VERSION:2.0
PRODID:-//104.152.168.27//NONSGML kigkonsult.se iCalcreator 2.20//
CALSCALE:GREGORIAN
METHOD:PUBLISH
X-WR-TIMEZONE:Asia/Tokyo
BEGIN:VEVENT
UID:event38984@Tokyo Gig Guide
DTSTAMP:20260421T171611Z
CATEGORIES:Ambient\, Avant garde\, Experimental\, Improvised\, Noise
DESCRIPTION:Akai Matilda + Naoyasu Takahashi\, MOGRE MOGRU\nCategory: Ambie
 nt\, Avant garde\, Experimental\, Improvised\, Noise\nLink: https://www.to
 kyogigguide.com/index.php?option=com_jem&view=event&id=38984:akai-matilda-
 hiroo-chubachi-rill-saionji-naoyasu-takahashi-mogre-mogru&Itemid=1094\n
DTSTART:20260314T190000
DTEND:20260314T190000
LOCATION:Flying Teapot\,Enomoto Bldg B1F\, 27-7 Sakae-cho\, Nerima-ku\,Ekod
 a
SUMMARY:Akai Matilda + Naoyasu Takahashi\, MOGRE MOGRU
URL:https://www.tokyogigguide.com/index.php?option=com_jem&view=event&id=38
 984:akai-matilda-hiroo-chubachi-rill-saionji-naoyasu-takahashi-mogre-mogru
 &Itemid=1094
END:VEVENT
END:VCALENDAR
