BEGIN:VCALENDAR
VERSION:2.0
PRODID:-//104.152.168.27//NONSGML kigkonsult.se iCalcreator 2.20//
CALSCALE:GREGORIAN
METHOD:PUBLISH
X-WR-TIMEZONE:Asia/Tokyo
BEGIN:VEVENT
UID:event38917@Tokyo Gig Guide
DTSTAMP:20260421T130818Z
CATEGORIES:Metal
DESCRIPTION:ASK I FALL\, BabyFaith\, Clone of Vengeance\, Crows of Scenery\
 , HIBIKI\, Hijack Mind\, HIRAETH\, MAD ROCKERS\, MOMN\, Neo Panth\nCategor
 y: Metal\nLink: https://www.tokyogigguide.com/index.php?option=com_jem&vie
 w=event&id=38917:ask-i-fall-babyfaith-clone-of-vengeance-crows-of-scenery-
 hibiki-hijack-mind-hiraeth-mad-rockers-momn-neo-panth&Itemid=1094\n
DTSTART:20260109T163000
DTEND:20260109T163000
LOCATION:Liveholic\,5F\, 2-6-5 Kitazawa\, Setagayaku\, Tokyo\,Shimokitazawa
SUMMARY:ASK I FALL\, BabyFaith\, Clone of Vengeance\, Crows of Scenery\, HI
 BIKI\, Hijack Mind\, HIRAETH\, MAD ROCKERS\, MOMN\, Neo Panth
URL:https://www.tokyogigguide.com/index.php?option=com_jem&view=event&id=38
 917:ask-i-fall-babyfaith-clone-of-vengeance-crows-of-scenery-hibiki-hijack
 -mind-hiraeth-mad-rockers-momn-neo-panth&Itemid=1094
END:VEVENT
END:VCALENDAR
