BEGIN:VCALENDAR
VERSION:2.0
PRODID:-//104.152.168.27//NONSGML kigkonsult.se iCalcreator 2.20//
CALSCALE:GREGORIAN
METHOD:PUBLISH
X-WR-TIMEZONE:Asia/Tokyo
BEGIN:VEVENT
UID:event38840@Tokyo Gig Guide
DTSTAMP:20260420T135800Z
CATEGORIES:Improvised\, Instrumental\, Jazz
DESCRIPTION:Trio L.O.D\nCategory: Improvised\, Instrumental\, Jazz\nLink: h
 ttps://www.tokyogigguide.com/index.php?option=com_jem&view=event&id=38840:
 trio-l-o-d&Itemid=1094\n
DTSTART:20260331T190000
DTEND:20260331T190000
LOCATION:Art × Jazz M's\,2-7-5 Myojo bld. B1 Honcho Kokubunji-shi\,Kokubunj
 i
SUMMARY:Trio L.O.D
URL:https://www.tokyogigguide.com/index.php?option=com_jem&view=event&id=38
 840:trio-l-o-d&Itemid=1094
END:VEVENT
END:VCALENDAR
