BEGIN:VCALENDAR
VERSION:2.0
PRODID:-//104.152.168.27//NONSGML kigkonsult.se iCalcreator 2.20//
CALSCALE:GREGORIAN
METHOD:PUBLISH
X-WR-TIMEZONE:Asia/Tokyo
BEGIN:VEVENT
UID:event38785@Tokyo Gig Guide
DTSTAMP:20260424T093524Z
CATEGORIES:Improvised
DESCRIPTION:Project Quartz\nCategory: Improvised\nLink: https://www.tokyogi
 gguide.com/index.php?option=com_jem&view=event&id=38785:project-quartz&Ite
 mid=1094\n
DTSTART:20260310T190000
DTEND:20260310T190000
LOCATION:Knuttel House\,4-1-8 Matsugaya\, Taito-ku\, Tokyo\,Iriya
SUMMARY:Project Quartz
URL:https://www.tokyogigguide.com/index.php?option=com_jem&view=event&id=38
 785:project-quartz&Itemid=1094
END:VEVENT
END:VCALENDAR
