BEGIN:VCALENDAR
VERSION:2.0
PRODID:-//104.152.168.27//NONSGML kigkonsult.se iCalcreator 2.20//
CALSCALE:GREGORIAN
METHOD:PUBLISH
X-WR-TIMEZONE:Asia/Tokyo
BEGIN:VEVENT
UID:event38633@Tokyo Gig Guide
DTSTAMP:20260423T073337Z
CATEGORIES:Hardcore\, Instrumental\, Metal\, Noise\, Punk
DESCRIPTION:HONG KONG FUCK YOU\, ABIGAIL\, MERZBOW\, SLIGHT SLAPPERS\nCateg
 ory: Hardcore\, Instrumental\, Metal\, Noise\, Punk\nLink: https://www.tok
 yogigguide.com/index.php?option=com_jem&view=event&id=38633:hong-kong-fuck
 -you-abigail-merzbow-slight-slappers&Itemid=1094\n
DTSTART:20260413T183000
DTEND:20260413T183000
LOCATION:Earthdom\,Lisbon Bldg B1F\, 3-32-3 Okubo\, Shinjuku-ku\,Okubo
SUMMARY:HONG KONG FUCK YOU\, ABIGAIL\, MERZBOW\, SLIGHT SLAPPERS
URL:https://www.tokyogigguide.com/index.php?option=com_jem&view=event&id=38
 633:hong-kong-fuck-you-abigail-merzbow-slight-slappers&Itemid=1094
END:VEVENT
END:VCALENDAR
