BEGIN:VCALENDAR
VERSION:2.0
PRODID:-//104.152.168.27//NONSGML kigkonsult.se iCalcreator 2.20//
CALSCALE:GREGORIAN
METHOD:PUBLISH
X-WR-TIMEZONE:Asia/Tokyo
BEGIN:VEVENT
UID:event38572@Tokyo Gig Guide
DTSTAMP:20260420T233242Z
CATEGORIES:Indie-Pop\, Indie-Rock\, Rock n Roll
DESCRIPTION:GREEN BARREL\, SiCK HACK\, Tuberoe’s\, 鈴木椋斗 from Raymond\nCateg
 ory: Indie-Pop\, Indie-Rock\, Rock n Roll\nLink: https://www.tokyogigguide
 .com/index.php?option=com_jem&view=event&id=38572:green-barrel-sick-hack-t
 uberoe-s-from-raymond&Itemid=1094\n
DTSTART:20251120T190000
DTEND:20251120T190000
LOCATION:Buzzfront\,Yokohama\, Nishi Ward\, Kitasaiwai\, 2 Chome−7−10 B1\,Y
 okohama
SUMMARY:GREEN BARREL\, SiCK HACK\, Tuberoe’s\, 鈴木椋斗 from Raymond
URL:https://www.tokyogigguide.com/index.php?option=com_jem&view=event&id=38
 572:green-barrel-sick-hack-tuberoe-s-from-raymond&Itemid=1094
END:VEVENT
END:VCALENDAR
