BEGIN:VCALENDAR
VERSION:2.0
PRODID:-//104.152.168.27//NONSGML kigkonsult.se iCalcreator 2.20//
CALSCALE:GREGORIAN
METHOD:PUBLISH
X-WR-TIMEZONE:Asia/Tokyo
BEGIN:VEVENT
UID:event3851@Tokyo Gig Guide
DTSTAMP:20260420T040702Z
CATEGORIES:Improvised
DESCRIPTION:ino chino imai (井野・千野・今井)\nCategory: Improvised\nLink: https://
 www.tokyogigguide.com/index.php?option=com_jem&view=event&id=3851:ino-chin
 o-imai-&Itemid=1094\n
DTSTART:20101216T190000
DTEND:20101216T190000
LOCATION:Airegin\,5-60 Sumiyoshi-cho\, Naka-ku\, Yokohama\, Kanagawa\,Yokoh
 ama
SUMMARY:ino chino imai (井野・千野・今井)
URL:https://www.tokyogigguide.com/index.php?option=com_jem&view=event&id=38
 51:ino-chino-imai-&Itemid=1094
END:VEVENT
END:VCALENDAR
