BEGIN:VCALENDAR
VERSION:2.0
PRODID:-//104.152.168.27//NONSGML kigkonsult.se iCalcreator 2.20//
CALSCALE:GREGORIAN
METHOD:PUBLISH
X-WR-TIMEZONE:Asia/Tokyo
BEGIN:VEVENT
UID:event38507@Tokyo Gig Guide
DTSTAMP:20260420T172857Z
CATEGORIES:All Mix\, Metal\, Rock\, Rock n Roll
DESCRIPTION:石若駿 (drums)\, 山本達久 (drums)\nCategory: All Mix\, Metal\, Rock\, 
 Rock n Roll\nLink: https://www.tokyogigguide.com/index.php?option=com_jem&
 view=event&id=38507:drums-drums&Itemid=1094\n
DTSTART:20251120T190000
DTEND:20251120T190000
LOCATION:POLARIS\,6-2-10 Minami-Aoyama\, Minato-ku\, Tokyo\,Minami-Aoyama
SUMMARY:石若駿 (drums)\, 山本達久 (drums)
URL:https://www.tokyogigguide.com/index.php?option=com_jem&view=event&id=38
 507:drums-drums&Itemid=1094
END:VEVENT
END:VCALENDAR
