BEGIN:VCALENDAR
VERSION:2.0
PRODID:-//104.152.168.27//NONSGML kigkonsult.se iCalcreator 2.20//
CALSCALE:GREGORIAN
METHOD:PUBLISH
X-WR-TIMEZONE:Asia/Tokyo
BEGIN:VEVENT
UID:event38502@Tokyo Gig Guide
DTSTAMP:20260420T201916Z
CATEGORIES:Doom\, Improvised\, Rock\, Rock n Roll
DESCRIPTION:羽野昌二 (drums)\, 中尾憲太郎 (bass)\, 田畑満 (guitar)\nCategory: Doom\, Im
 provised\, Rock\, Rock n Roll\nLink: https://www.tokyogigguide.com/index.p
 hp?option=com_jem&view=event&id=38502:drums-bass-guitar&Itemid=1094\n
DTSTART:20251114T190000
DTEND:20251114T190000
LOCATION:POLARIS\,6-2-10 Minami-Aoyama\, Minato-ku\, Tokyo\,Minami-Aoyama
SUMMARY:羽野昌二 (drums)\, 中尾憲太郎 (bass)\, 田畑満 (guitar)
URL:https://www.tokyogigguide.com/index.php?option=com_jem&view=event&id=38
 502:drums-bass-guitar&Itemid=1094
END:VEVENT
END:VCALENDAR
