BEGIN:VCALENDAR
VERSION:2.0
PRODID:-//104.152.168.27//NONSGML kigkonsult.se iCalcreator 2.20//
CALSCALE:GREGORIAN
METHOD:PUBLISH
X-WR-TIMEZONE:Asia/Tokyo
BEGIN:VEVENT
UID:event38365@Tokyo Gig Guide
DTSTAMP:20260422T002527Z
CATEGORIES:Avant garde\, Pop-punk\, Punk\, Rock n Roll
DESCRIPTION:トゥインクループ (TWINKLOOP)\, ミヤ&タク\, PUNSUCA\, CxGx\nCategory: Avant 
 garde\, Pop-punk\, Punk\, Rock n Roll\nLink: https://www.tokyogigguide.com
 /index.php?option=com_jem&view=event&id=38365:twinkloop-dr-vo-g-vo-mi-puns
 uca-cxgx&Itemid=1094\n
DTSTART:20251207T190000
DTEND:20251207T190000
LOCATION:Hikari No Uma\,B1 1-23-17 Hyakunin-cho\, Shinjuku-ku\, Tokyo\,Okub
 o
SUMMARY:トゥインクループ (TWINKLOOP)\, ミヤ&タク\, PUNSUCA\, CxGx
URL:https://www.tokyogigguide.com/index.php?option=com_jem&view=event&id=38
 365:twinkloop-dr-vo-g-vo-mi-punsuca-cxgx&Itemid=1094
END:VEVENT
END:VCALENDAR
