BEGIN:VCALENDAR
VERSION:2.0
PRODID:-//104.152.168.27//NONSGML kigkonsult.se iCalcreator 2.20//
CALSCALE:GREGORIAN
METHOD:PUBLISH
X-WR-TIMEZONE:Asia/Tokyo
BEGIN:VEVENT
UID:event38104@Tokyo Gig Guide
DTSTAMP:20260426T014540Z
CATEGORIES:Acoustic\, Folk\, Punk\, Rock n Roll
DESCRIPTION:THE DUCK DOWNPICKERS\, Daiya Piano Santa\, SoberBrown\nCategory
 : Acoustic\, Folk\, Punk\, Rock n Roll\nLink: https://www.tokyogigguide.co
 m/index.php?option=com_jem&view=event&id=38104:the-duck-downpickers-daiya-
 piano-santa-soberbrown&Itemid=1094\n
DTSTART:20251103T183000
DTEND:20251103T183000
LOCATION:Sunlit Burger\,1-2-3 Higurashi\, Matsudo\, Chiba\,Matsudo
SUMMARY:THE DUCK DOWNPICKERS\, Daiya Piano Santa\, SoberBrown
URL:https://www.tokyogigguide.com/index.php?option=com_jem&view=event&id=38
 104:the-duck-downpickers-daiya-piano-santa-soberbrown&Itemid=1094
END:VEVENT
END:VCALENDAR
