BEGIN:VCALENDAR
VERSION:2.0
PRODID:-//104.152.168.27//NONSGML kigkonsult.se iCalcreator 2.20//
CALSCALE:GREGORIAN
METHOD:PUBLISH
X-WR-TIMEZONE:Asia/Tokyo
BEGIN:VEVENT
UID:event38017@Tokyo Gig Guide
DTSTAMP:20260425T131949Z
CATEGORIES:Garage Rock\, Indie-Rock\, Punk\, Rock\, Rock n Roll
DESCRIPTION:Back From The Grave Halloween Ball 2025 Day 1: The Kaisers\, Th
 e Woggles\, The Deltas\, Hot Laundry & more\nCategory: Garage Rock\, Indie
 -Rock\, Punk\, Rock\, Rock n Roll\nLink: https://www.tokyogigguide.com/ind
 ex.php?option=com_jem&view=event&id=38017:back-from-the-grave-halloween-ba
 ll-2025-day-1-the-kaisers-the-woggles-the-deltas-hot-laundry-more&Itemid=1
 094\n
DTSTART:20251018T120000
DTEND:20251018T120000
LOCATION:Loft\,Tatehana Building\, B2 1-12-9 kabukicho\, Shinjuku\,Shinjuku
SUMMARY:Back From The Grave Halloween Ball 2025 Day 1: The Kaisers\, The Wo
 ggles\, The Deltas\, Hot Laundry & more
URL:https://www.tokyogigguide.com/index.php?option=com_jem&view=event&id=38
 017:back-from-the-grave-halloween-ball-2025-day-1-the-kaisers-the-woggles-
 the-deltas-hot-laundry-more&Itemid=1094
END:VEVENT
END:VCALENDAR
