BEGIN:VCALENDAR
VERSION:2.0
PRODID:-//104.152.168.27//NONSGML kigkonsult.se iCalcreator 2.20//
CALSCALE:GREGORIAN
METHOD:PUBLISH
X-WR-TIMEZONE:Asia/Tokyo
BEGIN:VEVENT
UID:event37862@Tokyo Gig Guide
DTSTAMP:20260422T195836Z
CATEGORIES:Jazz
DESCRIPTION:Masatake Abe (electric bass)\, Kanon Aonami (alto sax)\, Masaki
  Kai (contrabass)\nCategory: Jazz\nLink: https://www.tokyogigguide.com/ind
 ex.php?option=com_jem&view=event&id=37862:masatake-abe-electric-bass-kanon
 -aonami-alto-sax-masaki-kai-contrabass&Itemid=1094\n
DTSTART:20251030T190000
DTEND:20251030T190000
LOCATION:Sweet Rain\,Okada Bldg. B1\, 5-46-5　Nakano\, Nakano-ku\, Tokyo\,Na
 kano
SUMMARY:Masatake Abe (electric bass)\, Kanon Aonami (alto sax)\, Masaki Kai
  (contrabass)
URL:https://www.tokyogigguide.com/index.php?option=com_jem&view=event&id=37
 862:masatake-abe-electric-bass-kanon-aonami-alto-sax-masaki-kai-contrabass
 &Itemid=1094
END:VEVENT
END:VCALENDAR
