BEGIN:VCALENDAR
VERSION:2.0
PRODID:-//104.152.168.27//NONSGML kigkonsult.se iCalcreator 2.20//
CALSCALE:GREGORIAN
METHOD:PUBLISH
X-WR-TIMEZONE:Asia/Tokyo
BEGIN:VEVENT
UID:event37860@Tokyo Gig Guide
DTSTAMP:20260424T235835Z
CATEGORIES:Folk\, Free Jazz\, Jazz
DESCRIPTION:Masatake Abe (bass) + Taeko Kurita (piano)\nCategory: Folk\, Fr
 ee Jazz\, Jazz\nLink: https://www.tokyogigguide.com/index.php?option=com_j
 em&view=event&id=37860:masatake-abe-bass-taeko-kurita-piano&Itemid=1094\n
DTSTART:20251022T190000
DTEND:20251022T190000
LOCATION:Sweet Rain\,Okada Bldg. B1\, 5-46-5　Nakano\, Nakano-ku\, Tokyo\,Na
 kano
SUMMARY:Masatake Abe (bass) + Taeko Kurita (piano)
URL:https://www.tokyogigguide.com/index.php?option=com_jem&view=event&id=37
 860:masatake-abe-bass-taeko-kurita-piano&Itemid=1094
END:VEVENT
END:VCALENDAR
