BEGIN:VCALENDAR
VERSION:2.0
PRODID:-//104.152.168.27//NONSGML kigkonsult.se iCalcreator 2.20//
CALSCALE:GREGORIAN
METHOD:PUBLISH
X-WR-TIMEZONE:Asia/Tokyo
BEGIN:VEVENT
UID:event37688@Tokyo Gig Guide
DTSTAMP:20260421T203901Z
CATEGORIES:Metal
DESCRIPTION:ASK I FALL\, Sleepless Endrophine\, Neo Panthera\, Leo Sharsy\,
  DaLiL Black\, SLAY’s LINE.\nCategory: Metal\nLink: https://www.tokyogiggu
 ide.com/index.php?option=com_jem&view=event&id=37688:ask-i-fall-sleepless-
 endrophine-neo-panthera-leo-sharsy-dalil-black-slay-s-line&Itemid=1094\n
DTSTART:20251022T173000
DTEND:20251022T173000
LOCATION:Liveholic\,5F\, 2-6-5 Kitazawa\, Setagayaku\, Tokyo\,Shimokitazawa
SUMMARY:ASK I FALL\, Sleepless Endrophine\, Neo Panthera\, Leo Sharsy\, DaL
 iL Black\, SLAY’s LINE.
URL:https://www.tokyogigguide.com/index.php?option=com_jem&view=event&id=37
 688:ask-i-fall-sleepless-endrophine-neo-panthera-leo-sharsy-dalil-black-sl
 ay-s-line&Itemid=1094
END:VEVENT
END:VCALENDAR
