BEGIN:VCALENDAR
VERSION:2.0
PRODID:-//104.152.168.27//NONSGML kigkonsult.se iCalcreator 2.20//
CALSCALE:GREGORIAN
METHOD:PUBLISH
X-WR-TIMEZONE:Asia/Tokyo
BEGIN:VEVENT
UID:event376@Tokyo Gig Guide
DTSTAMP:20260423T225840Z
CATEGORIES:Progressive
DESCRIPTION:le*silo\, Uemura Masahiro solo\, te_ri\, GREEN MILK FROM THE PL
 ANET ORANGE\, MANIAORGAN\nCategory: Progressive\nLink: https://www.tokyogi
 gguide.com/index.php?option=com_jem&view=event&id=376:lesilo-uemura-masahi
 ro-solo-teri-green-milk-from-the-planet-orange-maniaorgan&Itemid=1094\n
DTSTART:20081128T183000
DTEND:20081128T183000
LOCATION:Showboat\,Oak Hill Koenji B1F\, 3-17-2 Koenji Kita\,Koenji
SUMMARY:le*silo\, Uemura Masahiro solo\, te_ri\, GREEN MILK FROM THE PLANET
  ORANGE\, MANIAORGAN
URL:https://www.tokyogigguide.com/index.php?option=com_jem&view=event&id=37
 6:lesilo-uemura-masahiro-solo-teri-green-milk-from-the-planet-orange-mania
 organ&Itemid=1094
END:VEVENT
END:VCALENDAR
