BEGIN:VCALENDAR
VERSION:2.0
PRODID:-//104.152.168.27//NONSGML kigkonsult.se iCalcreator 2.20//
CALSCALE:GREGORIAN
METHOD:PUBLISH
X-WR-TIMEZONE:Asia/Tokyo
BEGIN:VEVENT
UID:event37519@Tokyo Gig Guide
DTSTAMP:20260420T005802Z
CATEGORIES:Ambient\, Avant garde\, Experimental\, Improvised\, Noise
DESCRIPTION:Naoyasu Takahashi\, Hiroyuki Chiba + Rill Saionji\, pisica\, Nu
 llo the Buzoku\nCategory: Ambient\, Avant garde\, Experimental\, Improvise
 d\, Noise\nLink: https://www.tokyogigguide.com/index.php?option=com_jem&vi
 ew=event&id=37519:naoyasu-takahashi-hiroyuki-chiba-rill-saionji-pisica-nul
 lo-the-buzoku&Itemid=1094\n
DTSTART:20260125T180000
DTEND:20260125T180000
LOCATION:Flying Teapot\,Enomoto Bldg B1F\, 27-7 Sakae-cho\, Nerima-ku\,Ekod
 a
SUMMARY:Naoyasu Takahashi\, Hiroyuki Chiba + Rill Saionji\, pisica\, Nullo 
 the Buzoku
URL:https://www.tokyogigguide.com/index.php?option=com_jem&view=event&id=37
 519:naoyasu-takahashi-hiroyuki-chiba-rill-saionji-pisica-nullo-the-buzoku&
 Itemid=1094
END:VEVENT
END:VCALENDAR
