BEGIN:VCALENDAR
VERSION:2.0
PRODID:-//104.152.168.27//NONSGML kigkonsult.se iCalcreator 2.20//
CALSCALE:GREGORIAN
METHOD:PUBLISH
X-WR-TIMEZONE:Asia/Tokyo
BEGIN:VEVENT
UID:event37438@Tokyo Gig Guide
DTSTAMP:20260419T142234Z
CATEGORIES:Pop-punk\, Punk\, Rock\, Rock n Roll\, Shibuya-kei
DESCRIPTION:YAPOOL\, 自爆\nCategory: Pop-punk\, Punk\, Rock\, Rock n Roll\, S
 hibuya-kei\nLink: https://www.tokyogigguide.com/index.php?option=com_jem&v
 iew=event&id=37438:yapool&Itemid=1094\n
DTSTART:20250911T190000
DTEND:20250911T190000
LOCATION:Club Que\,BigBen Building B2F\, 2-5-2 Kitazawa\,Shimokitazawa
SUMMARY:YAPOOL\, 自爆
URL:https://www.tokyogigguide.com/index.php?option=com_jem&view=event&id=37
 438:yapool&Itemid=1094
END:VEVENT
END:VCALENDAR
