BEGIN:VCALENDAR
VERSION:2.0
PRODID:-//104.152.168.27//NONSGML kigkonsult.se iCalcreator 2.20//
CALSCALE:GREGORIAN
METHOD:PUBLISH
X-WR-TIMEZONE:Asia/Tokyo
BEGIN:VEVENT
UID:event37013@Tokyo Gig Guide
DTSTAMP:20260421T012430Z
CATEGORIES:Abstract\, Alternative\, Doom\, Dub\, Experimental\, Garage Rock
 \, Hardcore\, Noise Rock\, Punk
DESCRIPTION:SOCIAL EXCLUSION\, Asix Boomerangs\, SHIPYARDS\, GREEDY FAT CAT
 \nCategory: Abstract\, Alternative\, Doom\, Dub\, Experimental\, Garage Ro
 ck\, Hardcore\, Noise Rock\, Punk\nLink: https://www.tokyogigguide.com/ind
 ex.php?option=com_jem&view=event&id=37013:social-exclusion-asix-boomerangs
 -shipyards-greedy-fat-cat&Itemid=1094\n
DTSTART:20250809T180000
DTEND:20250809T180000
LOCATION:Sound Studio DOM\,3F Koenjiminami 4-25-7\, Suginami-ku \,Koenji
SUMMARY:SOCIAL EXCLUSION\, Asix Boomerangs\, SHIPYARDS\, GREEDY FAT CAT
URL:https://www.tokyogigguide.com/index.php?option=com_jem&view=event&id=37
 013:social-exclusion-asix-boomerangs-shipyards-greedy-fat-cat&Itemid=1094
END:VEVENT
END:VCALENDAR
