BEGIN:VCALENDAR
VERSION:2.0
PRODID:-//104.152.168.27//NONSGML kigkonsult.se iCalcreator 2.20//
CALSCALE:GREGORIAN
METHOD:PUBLISH
X-WR-TIMEZONE:Asia/Tokyo
BEGIN:VEVENT
UID:event36972@Tokyo Gig Guide
DTSTAMP:20260425T003507Z
CATEGORIES:Alternative\, Electronic\, Hard Rock\, Psychedelic\, Punk
DESCRIPTION:9000SONICS\, 久土'N'茶谷\, ampcharwar\, keller\, ファイヤートマト-絆-\nCateg
 ory: Alternative\, Electronic\, Hard Rock\, Psychedelic\, Punk\nLink: http
 s://www.tokyogigguide.com/index.php?option=com_jem&view=event&id=36972:900
 0sonics-n-ampcharwar-keller&Itemid=1094\n
DTSTART:20250727T183000
DTEND:20250727T183000
LOCATION:Heaven's Door\,1-33-19 B1 Sangenjyaya\,Sangenjaya
SUMMARY:9000SONICS\, 久土'N'茶谷\, ampcharwar\, keller\, ファイヤートマト-絆-
URL:https://www.tokyogigguide.com/index.php?option=com_jem&view=event&id=36
 972:9000sonics-n-ampcharwar-keller&Itemid=1094
END:VEVENT
END:VCALENDAR
