BEGIN:VCALENDAR
VERSION:2.0
PRODID:-//104.152.168.27//NONSGML kigkonsult.se iCalcreator 2.20//
CALSCALE:GREGORIAN
METHOD:PUBLISH
X-WR-TIMEZONE:Asia/Tokyo
BEGIN:VEVENT
UID:event36885@Tokyo Gig Guide
DTSTAMP:20260420T054141Z
CATEGORIES:Acoustic\, Improvised\, Instrumental
DESCRIPTION:Naoki Kita (violin)\, Kyoko Kuroda (piano)\nCategory: Acoustic\
 , Improvised\, Instrumental\nLink: https://www.tokyogigguide.com/index.php
 ?option=com_jem&view=event&id=36885:naoki-kita-violin-kyoko-kuroda-piano&I
 temid=1094\n
DTSTART:20250725T183000
DTEND:20250725T183000
LOCATION:Sweet Rain\,Okada Bldg. B1\, 5-46-5　Nakano\, Nakano-ku\, Tokyo\,Na
 kano
SUMMARY:Naoki Kita (violin)\, Kyoko Kuroda (piano)
URL:https://www.tokyogigguide.com/index.php?option=com_jem&view=event&id=36
 885:naoki-kita-violin-kyoko-kuroda-piano&Itemid=1094
END:VEVENT
END:VCALENDAR
