BEGIN:VCALENDAR
VERSION:2.0
PRODID:-//104.152.168.27//NONSGML kigkonsult.se iCalcreator 2.20//
CALSCALE:GREGORIAN
METHOD:PUBLISH
X-WR-TIMEZONE:Asia/Tokyo
BEGIN:VEVENT
UID:event36859@Tokyo Gig Guide
DTSTAMP:20260419T222750Z
CATEGORIES:Jazz
DESCRIPTION:Orie Hirayama (cello)\, maiko (violin)\, crusher Kimura (violin
 )\, Shiori Tanaka (viola)\, Yuki Ito (bass)\nCategory: Jazz\nLink: https:/
 /www.tokyogigguide.com/index.php?option=com_jem&view=event&id=36859:orie-h
 irayama-cello-maiko-violin-crusher-kimura-violin-shiori-tanaka-viola-yuki-
 ito-bass&Itemid=1094\n
DTSTART:20251021T190000
DTEND:20251021T190000
LOCATION:ZIMAGINE\,6-2-13-B1 Minami-Aoyama\, Minato-ku\, Tokyo\,Omotesando
SUMMARY:Orie Hirayama (cello)\, maiko (violin)\, crusher Kimura (violin)\, 
 Shiori Tanaka (viola)\, Yuki Ito (bass)
URL:https://www.tokyogigguide.com/index.php?option=com_jem&view=event&id=36
 859:orie-hirayama-cello-maiko-violin-crusher-kimura-violin-shiori-tanaka-v
 iola-yuki-ito-bass&Itemid=1094
END:VEVENT
END:VCALENDAR
