BEGIN:VCALENDAR
VERSION:2.0
PRODID:-//104.152.168.27//NONSGML kigkonsult.se iCalcreator 2.20//
CALSCALE:GREGORIAN
METHOD:PUBLISH
X-WR-TIMEZONE:Asia/Tokyo
BEGIN:VEVENT
UID:event36822@Tokyo Gig Guide
DTSTAMP:20260421T231943Z
CATEGORIES:Improvised
DESCRIPTION:Takahiro Kawaguchi\, Makoto Kawashima × Manabu Murata\, Yengo\,
  Ritsuko Sakata\, myein\, Cellar Roam\nCategory: Improvised\nLink: https:/
 /www.tokyogigguide.com/index.php?option=com_jem&view=event&id=36822:takahi
 ro-kawaguchi-makoto-kawashima-manabu-murata-yengo-ritsuko-sakata-myein-cel
 lar-roam&Itemid=1094\n
DTSTART:20250728T190000
DTEND:20250728T190000
LOCATION:Forestlimit\,B1F Hatagaya KODA Bldg\, 2-8-15 Hatagaya\, Shibuyaku\
 ,Hatagaya
SUMMARY:Takahiro Kawaguchi\, Makoto Kawashima × Manabu Murata\, Yengo\, Rit
 suko Sakata\, myein\, Cellar Roam
URL:https://www.tokyogigguide.com/index.php?option=com_jem&view=event&id=36
 822:takahiro-kawaguchi-makoto-kawashima-manabu-murata-yengo-ritsuko-sakata
 -myein-cellar-roam&Itemid=1094
END:VEVENT
END:VCALENDAR
