BEGIN:VCALENDAR
VERSION:2.0
PRODID:-//104.152.168.27//NONSGML kigkonsult.se iCalcreator 2.20//
CALSCALE:GREGORIAN
METHOD:PUBLISH
X-WR-TIMEZONE:Asia/Tokyo
BEGIN:VEVENT
UID:event36643@Tokyo Gig Guide
DTSTAMP:20260421T063609Z
CATEGORIES:Hardcore\, Indie\, Post-Punk\, Power Pop\, Punk
DESCRIPTION:Don't Ask (CA)\, PENNY (NY)\, KIDDER\, HATEMAN\, MEGA X\, アシックス
 ★ブーメランズ\, VVVVISION\, GAME & chips\nCategory: Hardcore\, Indie\, Post-Punk
 \, Power Pop\, Punk\nLink: https://www.tokyogigguide.com/index.php?option=
 com_jem&view=event&id=36643:don-t-ask-ca-penny-ny-kidder-hateman-mega-x-vv
 vvision-game-chips&Itemid=1094\n
DTSTART:20250727T153000
DTEND:20250727T153000
LOCATION:Daydream\,6F\, 1-1-4\, Minami-cho\, Kichijoji\, Musashino city\,Ki
 chijoji
SUMMARY:Don't Ask (CA)\, PENNY (NY)\, KIDDER\, HATEMAN\, MEGA X\, アシックス★ブーメ
 ランズ\, VVVVISION\, GAME & chips
URL:https://www.tokyogigguide.com/index.php?option=com_jem&view=event&id=36
 643:don-t-ask-ca-penny-ny-kidder-hateman-mega-x-vvvvision-game-chips&Itemi
 d=1094
END:VEVENT
END:VCALENDAR
