BEGIN:VCALENDAR
VERSION:2.0
PRODID:-//104.152.168.27//NONSGML kigkonsult.se iCalcreator 2.20//
CALSCALE:GREGORIAN
METHOD:PUBLISH
X-WR-TIMEZONE:Asia/Tokyo
BEGIN:VEVENT
UID:event3642@Tokyo Gig Guide
DTSTAMP:20260420T035341Z
CATEGORIES:Rock
DESCRIPTION:ANDROID BEACH PARTY\, PLAYFIGHT\nCategory: Rock\nLink: https://
 www.tokyogigguide.com/index.php?option=com_jem&view=event&id=3642:android-
 beach-party-playfight&Itemid=1094\n
DTSTART:20101025T200000
DTEND:20101025T200000
LOCATION:Heavy Sick\,Nishihara 2-27-4 B1\, Shibuya-ku\,Hatagaya
SUMMARY:ANDROID BEACH PARTY\, PLAYFIGHT
URL:https://www.tokyogigguide.com/index.php?option=com_jem&view=event&id=36
 42:android-beach-party-playfight&Itemid=1094
END:VEVENT
END:VCALENDAR
