BEGIN:VCALENDAR
VERSION:2.0
PRODID:-//104.152.168.27//NONSGML kigkonsult.se iCalcreator 2.20//
CALSCALE:GREGORIAN
METHOD:PUBLISH
X-WR-TIMEZONE:Asia/Tokyo
BEGIN:VEVENT
UID:event3639@Tokyo Gig Guide
DTSTAMP:20260420T061446Z
CATEGORIES:Improvised
DESCRIPTION:Marcos Fernandes\, Gianni Gebbia\, Takuji Kawai\nCategory: Impr
 ovised\nLink: https://www.tokyogigguide.com/index.php?option=com_jem&view=
 event&id=3639:marcos-fernandes-gianni-gebbia-takuji-kawai&Itemid=1094\n
DTSTART:20101113T190000
DTEND:20101113T190000
LOCATION:Airegin\,5-60 Sumiyoshi-cho\, Naka-ku\, Yokohama\, Kanagawa\,Yokoh
 ama
SUMMARY:Marcos Fernandes\, Gianni Gebbia\, Takuji Kawai
URL:https://www.tokyogigguide.com/index.php?option=com_jem&view=event&id=36
 39:marcos-fernandes-gianni-gebbia-takuji-kawai&Itemid=1094
END:VEVENT
END:VCALENDAR
