BEGIN:VCALENDAR
VERSION:2.0
PRODID:-//104.152.168.27//NONSGML kigkonsult.se iCalcreator 2.20//
CALSCALE:GREGORIAN
METHOD:PUBLISH
X-WR-TIMEZONE:Asia/Tokyo
BEGIN:VEVENT
UID:event36247@Tokyo Gig Guide
DTSTAMP:20260423T170845Z
CATEGORIES:Alternative\, Hip-Hop\, Indie-Rock\, New Wave\, Rock n Roll
DESCRIPTION:ロボ宙\, null spa\, OGGYWEST\, Pingpong Pearl Salt and Curve\, yea
 h slow beach (from 水戸)\, DJs VIDEOTAPEMUSIC\, イシヅカユウ\nCategory: Alternativ
 e\, Hip-Hop\, Indie-Rock\, New Wave\, Rock n Roll\nLink: https://www.tokyo
 gigguide.com/index.php?option=com_jem&view=event&id=36247:null-spa-oggywes
 t-pingpong-pearl-salt-and-curve-yeah-slow-beach-from-dj-videotapemusic&Ite
 mid=1094\n
DTSTART:20250729T190000
DTEND:20250729T190000
LOCATION:LIVE HAUS\,B1F\, 2-14-2 Kitazawa\, Setagayaku\, Tokyo\,Shimokitaza
 wa
SUMMARY:ロボ宙\, null spa\, OGGYWEST\, Pingpong Pearl Salt and Curve\, yeah sl
 ow beach (from 水戸)\, DJs VIDEOTAPEMUSIC\, イシヅカユウ
URL:https://www.tokyogigguide.com/index.php?option=com_jem&view=event&id=36
 247:null-spa-oggywest-pingpong-pearl-salt-and-curve-yeah-slow-beach-from-d
 j-videotapemusic&Itemid=1094
END:VEVENT
END:VCALENDAR
