BEGIN:VCALENDAR
VERSION:2.0
PRODID:-//104.152.168.27//NONSGML kigkonsult.se iCalcreator 2.20//
CALSCALE:GREGORIAN
METHOD:PUBLISH
X-WR-TIMEZONE:Asia/Tokyo
BEGIN:VEVENT
UID:event3615@Tokyo Gig Guide
DTSTAMP:20260419T175921Z
CATEGORIES:Post-Rock
DESCRIPTION:Marcos Fernandes\, Dai Nakamura\, Takumi Ito\, Minoru Yonemoto
 \nCategory: Post-Rock\nLink: https://www.tokyogigguide.com/index.php?optio
 n=com_jem&view=event&id=3615:marcos-fernandes-dai-nakamura-takumi-ito-mino
 ru-yonemoto&Itemid=1094\n
DTSTART:20101110T190000
DTEND:20101110T190000
LOCATION:Airegin\,5-60 Sumiyoshi-cho\, Naka-ku\, Yokohama\, Kanagawa\,Yokoh
 ama
SUMMARY:Marcos Fernandes\, Dai Nakamura\, Takumi Ito\, Minoru Yonemoto
URL:https://www.tokyogigguide.com/index.php?option=com_jem&view=event&id=36
 15:marcos-fernandes-dai-nakamura-takumi-ito-minoru-yonemoto&Itemid=1094
END:VEVENT
END:VCALENDAR
