BEGIN:VCALENDAR
VERSION:2.0
PRODID:-//104.152.168.27//NONSGML kigkonsult.se iCalcreator 2.20//
CALSCALE:GREGORIAN
METHOD:PUBLISH
X-WR-TIMEZONE:Asia/Tokyo
BEGIN:VEVENT
UID:event36045@Tokyo Gig Guide
DTSTAMP:20260421T140535Z
CATEGORIES:Acoustic\, Folk\, Funk\, Indie-Pop\, Pop
DESCRIPTION:To-y\, ワイルドマウンテンゴリラ中島\, oookay!!!\, 香取さとり\, TOBIUO\, 連続100時間\nC
 ategory: Acoustic\, Folk\, Funk\, Indie-Pop\, Pop\nLink: https://www.tokyo
 gigguide.com/index.php?option=com_jem&view=event&id=36045:to-y-oookay-tobi
 uo-100&Itemid=1094\n
DTSTART:20250615T180000
DTEND:20250615T180000
LOCATION:Sunlit Burger\,1-2-3 Higurashi\, Matsudo\, Chiba\,Matsudo
SUMMARY:To-y\, ワイルドマウンテンゴリラ中島\, oookay!!!\, 香取さとり\, TOBIUO\, 連続100時間
URL:https://www.tokyogigguide.com/index.php?option=com_jem&view=event&id=36
 045:to-y-oookay-tobiuo-100&Itemid=1094
END:VEVENT
END:VCALENDAR
