BEGIN:VCALENDAR
VERSION:2.0
PRODID:-//104.152.168.27//NONSGML kigkonsult.se iCalcreator 2.20//
CALSCALE:GREGORIAN
METHOD:PUBLISH
X-WR-TIMEZONE:Asia/Tokyo
BEGIN:VEVENT
UID:event35883@Tokyo Gig Guide
DTSTAMP:20260426T012934Z
CATEGORIES:Progressive\, Rock
DESCRIPTION:AINAKANNA\, The Skys\, more\nCategory: Progressive\, Rock\nLink
 : https://www.tokyogigguide.com/index.php?option=com_jem&view=event&id=358
 83:act-ainakanna-the-skys-and-more&Itemid=1094\n
DTSTART:20250612T180000
DTEND:20250612T180000
LOCATION:Guilty\,Prospect B1F\, 1-17-6 Genzaka\, Shibuya\,Shibuya
SUMMARY:AINAKANNA\, The Skys\, more
URL:https://www.tokyogigguide.com/index.php?option=com_jem&view=event&id=35
 883:act-ainakanna-the-skys-and-more&Itemid=1094
END:VEVENT
END:VCALENDAR
