BEGIN:VCALENDAR
VERSION:2.0
PRODID:-//104.152.168.27//NONSGML kigkonsult.se iCalcreator 2.20//
CALSCALE:GREGORIAN
METHOD:PUBLISH
X-WR-TIMEZONE:Asia/Tokyo
BEGIN:VEVENT
UID:event35875@Tokyo Gig Guide
DTSTAMP:20260423T074620Z
CATEGORIES:Alternative\, Electronic\, Experimental\, Improvised
DESCRIPTION:MIYAMELO\, Atsuhiro Ito\, Yuma Takeshita\, Improvisers Machine 
 Orchestra Double Quartet\nCategory: Alternative\, Electronic\, Experimenta
 l\, Improvised\nLink: https://www.tokyogigguide.com/index.php?option=com_j
 em&view=event&id=35875:miyamelo-presents-augmented-bodies-and-improvisatio
 n-machine&Itemid=1094\n
DTSTART:20250602T193000
DTEND:20250602T193000
LOCATION:SUPER DOMMUNE\,15-1 Udagawa-Cho\, Shibuya-ku\, Tokyo\, PARCO9F\,Sh
 ibuya
SUMMARY:MIYAMELO\, Atsuhiro Ito\, Yuma Takeshita\, Improvisers Machine Orch
 estra Double Quartet
URL:https://www.tokyogigguide.com/index.php?option=com_jem&view=event&id=35
 875:miyamelo-presents-augmented-bodies-and-improvisation-machine&Itemid=10
 94
END:VEVENT
END:VCALENDAR
