BEGIN:VCALENDAR
VERSION:2.0
PRODID:-//104.152.168.27//NONSGML kigkonsult.se iCalcreator 2.20//
CALSCALE:GREGORIAN
METHOD:PUBLISH
X-WR-TIMEZONE:Asia/Tokyo
BEGIN:VEVENT
UID:event35708@Tokyo Gig Guide
DTSTAMP:20260419T230633Z
CATEGORIES:Avant garde\, Improvised\, Instrumental\, Jam\, Rock
DESCRIPTION:Riki Hidaka (guitar)\, yagihiromi (guitar)\, Kentaro Nakao (bas
 s)\nCategory: Avant garde\, Improvised\, Instrumental\, Jam\, Rock\nLink: 
 https://www.tokyogigguide.com/index.php?option=com_jem&view=event&id=35708
 :riki-hidaka-guitar-yagihiromi-guitar-kentaro-nakao-bass&Itemid=1094\n
DTSTART:20250523T193000
DTEND:20250523T193000
LOCATION:POLARIS\,6-2-10 Minami-Aoyama\, Minato-ku\, Tokyo\,Minami-Aoyama
SUMMARY:Riki Hidaka (guitar)\, yagihiromi (guitar)\, Kentaro Nakao (bass)
URL:https://www.tokyogigguide.com/index.php?option=com_jem&view=event&id=35
 708:riki-hidaka-guitar-yagihiromi-guitar-kentaro-nakao-bass&Itemid=1094
END:VEVENT
END:VCALENDAR
