BEGIN:VCALENDAR
VERSION:2.0
PRODID:-//104.152.168.27//NONSGML kigkonsult.se iCalcreator 2.20//
CALSCALE:GREGORIAN
METHOD:PUBLISH
X-WR-TIMEZONE:Asia/Tokyo
BEGIN:VEVENT
UID:event35427@Tokyo Gig Guide
DTSTAMP:20260421T114456Z
CATEGORIES:Alternative\, Dream-pop\, Shoegaze
DESCRIPTION:ある49日と私\, Orange Butter Candle\, ヒメウズ\, PLOTOLEMS\nCategory: Al
 ternative\, Dream-pop\, Shoegaze\nLink: https://www.tokyogigguide.com/inde
 x.php?option=com_jem&view=event&id=35427:49-orange-butter-candle-plotolems
 &Itemid=1094\n
DTSTART:20250413T190000
DTEND:20250413T190000
LOCATION:mod\,B1\,1-20-2 Kikunodai\, Chofu\, Tokyo\,Shibasaki
SUMMARY:ある49日と私\, Orange Butter Candle\, ヒメウズ\, PLOTOLEMS
URL:https://www.tokyogigguide.com/index.php?option=com_jem&view=event&id=35
 427:49-orange-butter-candle-plotolems&Itemid=1094
END:VEVENT
END:VCALENDAR
