BEGIN:VCALENDAR
VERSION:2.0
PRODID:-//104.152.168.27//NONSGML kigkonsult.se iCalcreator 2.20//
CALSCALE:GREGORIAN
METHOD:PUBLISH
X-WR-TIMEZONE:Asia/Tokyo
BEGIN:VEVENT
UID:event35194@Tokyo Gig Guide
DTSTAMP:20260423T205341Z
CATEGORIES:Alternative\, Dream-pop\, Indie\, Shoegaze
DESCRIPTION:hail lain\, 来白 (band set)\, Gretchen Grundler\, sheeplore\nCate
 gory: Alternative\, Dream-pop\, Indie\, Shoegaze\nLink: https://www.tokyog
 igguide.com/index.php?option=com_jem&view=event&id=35194:hail-lain-band-se
 t-gretchen-grundler-sheeplore&Itemid=1094\n
DTSTART:20250428T190000
DTEND:20250428T190000
LOCATION:Three\,Kitazawa 5-18-1 B1F\, Setagaya-ku\, Tokyo\,Shimokitazawa
SUMMARY:hail lain\, 来白 (band set)\, Gretchen Grundler\, sheeplore
URL:https://www.tokyogigguide.com/index.php?option=com_jem&view=event&id=35
 194:hail-lain-band-set-gretchen-grundler-sheeplore&Itemid=1094
END:VEVENT
END:VCALENDAR
