BEGIN:VCALENDAR
VERSION:2.0
PRODID:-//104.152.168.27//NONSGML kigkonsult.se iCalcreator 2.20//
CALSCALE:GREGORIAN
METHOD:PUBLISH
X-WR-TIMEZONE:Asia/Tokyo
BEGIN:VEVENT
UID:event35095@Tokyo Gig Guide
DTSTAMP:20260423T161131Z
CATEGORIES:Electro-Pop\, Industrial\, Neo-psychedelia\, Post-Punk\, Punk
DESCRIPTION:ラパンナジール\, NφISE KILLER\, THE TRICKS\, SchiZoid\, THE NEGATIVE M
 IND DISTORTION\, 96†\nCategory: Electro-Pop\, Industrial\, Neo-psychedelia
 \, Post-Punk\, Punk\nLink: https://www.tokyogigguide.com/index.php?option=
 com_jem&view=event&id=35095:n-ise-killer-the-tricks-schizoid-the-negative-
 mind-distortion-96&Itemid=1094\n
DTSTART:20250405T170000
DTEND:20250405T170000
LOCATION:Chop (Shutou)\,Sheema100 B1\, 2-46-3 Ikebukuro\,Ikebukuro
SUMMARY:ラパンナジール\, NφISE KILLER\, THE TRICKS\, SchiZoid\, THE NEGATIVE MIND 
 DISTORTION\, 96†
URL:https://www.tokyogigguide.com/index.php?option=com_jem&view=event&id=35
 095:n-ise-killer-the-tricks-schizoid-the-negative-mind-distortion-96&Itemi
 d=1094
END:VEVENT
END:VCALENDAR
