BEGIN:VCALENDAR
VERSION:2.0
PRODID:-//104.152.168.27//NONSGML kigkonsult.se iCalcreator 2.20//
CALSCALE:GREGORIAN
METHOD:PUBLISH
X-WR-TIMEZONE:Asia/Tokyo
BEGIN:VEVENT
UID:event34986@Tokyo Gig Guide
DTSTAMP:20260422T102805Z
CATEGORIES:Indie-Rock\, Dream-pop\, Shoegaze
DESCRIPTION:Theティバ (The Tiva)\, Hammer Head Shark\, Living Rita\nCategory: 
 Indie-Rock\, Dream-pop\, Shoegaze\nLink: https://www.tokyogigguide.com/ind
 ex.php?option=com_jem&view=event&id=34986:the-the-tiva-hammer-head-shark-l
 iving-rita&Itemid=1094\n
DTSTART:20250415T190000
DTEND:20250415T190000
LOCATION:Basement Bar\,5-18-1-B1F\, Daizawa\, Setagaya-ku\,Shimokitazawa
SUMMARY:Theティバ (The Tiva)\, Hammer Head Shark\, Living Rita
URL:https://www.tokyogigguide.com/index.php?option=com_jem&view=event&id=34
 986:the-the-tiva-hammer-head-shark-living-rita&Itemid=1094
END:VEVENT
END:VCALENDAR
