BEGIN:VCALENDAR
VERSION:2.0
PRODID:-//104.152.168.27//NONSGML kigkonsult.se iCalcreator 2.20//
CALSCALE:GREGORIAN
METHOD:PUBLISH
X-WR-TIMEZONE:Asia/Tokyo
BEGIN:VEVENT
UID:event34863@Tokyo Gig Guide
DTSTAMP:20260423T141050Z
CATEGORIES:Hardcore\, Metal\, Post-Punk\, Progressive\, Psychedelic
DESCRIPTION:Pale\, Catastrophe Ballet\, Evraak\nCategory: Hardcore\, Metal\
 , Post-Punk\, Progressive\, Psychedelic\nLink: https://www.tokyogigguide.c
 om/index.php?option=com_jem&view=event&id=34863:pale-catastrophe-ballet-ev
 raak&Itemid=1094\n
DTSTART:20250712T183000
DTEND:20250712T183000
LOCATION:Nine Spices\,HANROKU Bldg B1\, Kabukicho 2-1-2\, Shinjuku-ku\,Shin
 juku
SUMMARY:Pale\, Catastrophe Ballet\, Evraak
URL:https://www.tokyogigguide.com/index.php?option=com_jem&view=event&id=34
 863:pale-catastrophe-ballet-evraak&Itemid=1094
END:VEVENT
END:VCALENDAR
