BEGIN:VCALENDAR
VERSION:2.0
PRODID:-//104.152.168.27//NONSGML kigkonsult.se iCalcreator 2.20//
CALSCALE:GREGORIAN
METHOD:PUBLISH
X-WR-TIMEZONE:Asia/Tokyo
BEGIN:VEVENT
UID:event34601@Tokyo Gig Guide
DTSTAMP:20260420T160925Z
CATEGORIES:Experimental\, Free Jazz\, Improvised\, Instrumental\, Jazz
DESCRIPTION:CHUBACHI Hiroo × SUGO Fumito Duo\nCategory: Experimental\, Free
  Jazz\, Improvised\, Instrumental\, Jazz\nLink: https://www.tokyogigguide.
 com/index.php?option=com_jem&view=event&id=34601:chubachi-hiroo-sugo-fumit
 o-duo&Itemid=1094\n
DTSTART:20250325T190000
DTEND:20250325T190000
LOCATION:Thelonious\,5-9-1\, Higashi Nakano\, Nakano-ku\,Higashi-Nakano
SUMMARY:CHUBACHI Hiroo × SUGO Fumito Duo
URL:https://www.tokyogigguide.com/index.php?option=com_jem&view=event&id=34
 601:chubachi-hiroo-sugo-fumito-duo&Itemid=1094
END:VEVENT
END:VCALENDAR
