BEGIN:VCALENDAR
VERSION:2.0
PRODID:-//104.152.168.27//NONSGML kigkonsult.se iCalcreator 2.20//
CALSCALE:GREGORIAN
METHOD:PUBLISH
X-WR-TIMEZONE:Asia/Tokyo
BEGIN:VEVENT
UID:event34579@Tokyo Gig Guide
DTSTAMP:20260421T041428Z
CATEGORIES:Acoustic\, Blues\, Funk\, Lo-Fi\, Pop
DESCRIPTION:かずくん\, maruma acoustic\, oookay!!!\, TOBIUO\, 連続100時間\, 部分ソーサナー
  (マデイと力王)\nCategory: Acoustic\, Blues\, Funk\, Lo-Fi\, Pop\nLink: https://
 www.tokyogigguide.com/index.php?option=com_jem&view=event&id=34579:maruma-
 acoustic-oookay-tobiuo-100&Itemid=1094\n
DTSTART:20250320T180000
DTEND:20250320T180000
LOCATION:Sunlit Burger\,1-2-3 Higurashi\, Matsudo\, Chiba\,Matsudo
SUMMARY:かずくん\, maruma acoustic\, oookay!!!\, TOBIUO\, 連続100時間\, 部分ソーサナー (マデ
 イと力王)
URL:https://www.tokyogigguide.com/index.php?option=com_jem&view=event&id=34
 579:maruma-acoustic-oookay-tobiuo-100&Itemid=1094
END:VEVENT
END:VCALENDAR
