BEGIN:VCALENDAR
VERSION:2.0
PRODID:-//104.152.168.27//NONSGML kigkonsult.se iCalcreator 2.20//
CALSCALE:GREGORIAN
METHOD:PUBLISH
X-WR-TIMEZONE:Asia/Tokyo
BEGIN:VEVENT
UID:event34553@Tokyo Gig Guide
DTSTAMP:20260421T085938Z
CATEGORIES:Free Jazz\, Instrumental\, Jazz
DESCRIPTION:Masatake Abe (bass)\, Daisuke Fujiwara (tenor sax)\, Nobuo Fuji
 i (drums) \nCategory: Free Jazz\, Instrumental\, Jazz\nLink: https://www.t
 okyogigguide.com/index.php?option=com_jem&view=event&id=34553:masatake-abe
 -bass-daisuke-fujiwara-tenor-sax-nobuo-fujii-drums&Itemid=1094\n
DTSTART:20250226T190000
DTEND:20250226T190000
LOCATION:Knuttel House\,4-1-8 Matsugaya\, Taito-ku\, Tokyo\,Iriya
SUMMARY:Masatake Abe (bass)\, Daisuke Fujiwara (tenor sax)\, Nobuo Fujii (d
 rums) 
URL:https://www.tokyogigguide.com/index.php?option=com_jem&view=event&id=34
 553:masatake-abe-bass-daisuke-fujiwara-tenor-sax-nobuo-fujii-drums&Itemid=
 1094
END:VEVENT
END:VCALENDAR
