BEGIN:VCALENDAR
VERSION:2.0
PRODID:-//104.152.168.27//NONSGML kigkonsult.se iCalcreator 2.20//
CALSCALE:GREGORIAN
METHOD:PUBLISH
X-WR-TIMEZONE:Asia/Tokyo
BEGIN:VEVENT
UID:event34394@Tokyo Gig Guide
DTSTAMP:20260420T102756Z
CATEGORIES:Art-Pop\, Electro\, Experimental\, Industrial\, Synth-pop
DESCRIPTION:honninman\, nakayoshi group\, くまちゃんシール\, 揺楽瑠香\, DJ マルサスクルー\nCat
 egory: Art-Pop\, Electro\, Experimental\, Industrial\, Synth-pop\nLink: ht
 tps://www.tokyogigguide.com/index.php?option=com_jem&view=event&id=34394:l
 ive-honninman-nakayoshi-group-dj&Itemid=1094\n
DTSTART:20250415T191500
DTEND:20250415T191500
LOCATION:LIVE HAUS\,B1F\, 2-14-2 Kitazawa\, Setagayaku\, Tokyo\,Shimokitaza
 wa
SUMMARY:honninman\, nakayoshi group\, くまちゃんシール\, 揺楽瑠香\, DJ マルサスクルー
URL:https://www.tokyogigguide.com/index.php?option=com_jem&view=event&id=34
 394:live-honninman-nakayoshi-group-dj&Itemid=1094
END:VEVENT
END:VCALENDAR
