BEGIN:VCALENDAR
VERSION:2.0
PRODID:-//104.152.168.27//NONSGML kigkonsult.se iCalcreator 2.20//
CALSCALE:GREGORIAN
METHOD:PUBLISH
X-WR-TIMEZONE:Asia/Tokyo
BEGIN:VEVENT
UID:event34382@Tokyo Gig Guide
DTSTAMP:20260421T202657Z
CATEGORIES:Alternative\, Dream-pop\, Indie\, Shoegaze
DESCRIPTION:FOnBA\, Loulou Parasom\, Dream Echoes\, kinoe\nCategory: Altern
 ative\, Dream-pop\, Indie\, Shoegaze\nLink: https://www.tokyogigguide.com/
 index.php?option=com_jem&view=event&id=34382:fonba-loulou-parasom-dream-ec
 hoes-kinoe&Itemid=1094\n
DTSTART:20250228T183000
DTEND:20250228T183000
LOCATION:Daisy Bar\,Elsanto Kitazawa B1\, Kitazawa 2-2-3\, Setagaya-ku\,Shi
 mokitazawa
SUMMARY:FOnBA\, Loulou Parasom\, Dream Echoes\, kinoe
URL:https://www.tokyogigguide.com/index.php?option=com_jem&view=event&id=34
 382:fonba-loulou-parasom-dream-echoes-kinoe&Itemid=1094
END:VEVENT
END:VCALENDAR
